BEGIN:VCALENDAR
VERSION:2.0
PRODID:-//wp-events-plugin.com//7.2.3.1//EN
TZID:America/Denver
X-WR-TIMEZONE:America/Denver
BEGIN:VEVENT
UID:13-159@css.wnmu.edu
DTSTART;TZID=America/Denver:20260423T200000
DTEND;TZID=America/Denver:20260423T220000
DTSTAMP:20260420T192449Z
URL:https://css.wnmu.edu/events/wnmu-prom-night-thursday-april-23-2026-8pm
 -to-10-pm/
SUMMARY:WNMU Prom Night - Thursday\, April 23\, 2026 - 8pm to 10 pm
DESCRIPTION:Prom Do-Over at the Pool Patio / Old James Stadium\n\nWhy? Beca
 use so many students didn't get the Prom you deserved because of COVID!\n\
 nPromPosals:  Can be made and purchased at the Caf all week!\n\nProceeds 
 will go to SASS (Sexual Assault Supportive Service) as April is Sexual As
 sault Awareness Month.\n\n&nbsp\;
ATTACH;FMTTYPE=image/jpeg:https://css.wnmu.edu/wp-content/uploads/sites/13
 /2026/04/The-right-night.jpg
CATEGORIES:Current Students
END:VEVENT
BEGIN:VTIMEZONE
TZID:America/Denver
X-LIC-LOCATION:America/Denver
BEGIN:DAYLIGHT
DTSTART:20260308T030000
TZOFFSETFROM:-0700
TZOFFSETTO:-0600
TZNAME:MDT
END:DAYLIGHT
END:VTIMEZONE
END:VCALENDAR