BEGIN:VCALENDAR
VERSION:2.0
PRODID:-//wp-events-plugin.com//7.2.3.1//EN
TZID:America/Denver
X-WR-TIMEZONE:America/Denver
BEGIN:VEVENT
UID:13-157@css.wnmu.edu
DTSTART;TZID=America/Denver:20260422T090000
DTEND;TZID=America/Denver:20260422T140000
DTSTAMP:20260420T161149Z
URL:https://css.wnmu.edu/events/wnmu-spring-career-fair-wednesday-april-22
 -2026/
SUMMARY:WNMU Spring Career Fair - Wednesday\, April 22\, 2026
DESCRIPTION:Meet Recruiters from Leading Organizations in Southwest New Mex
 ico\n\nATTENDEES\n\n 	CONSERVATION CORPS NEW MEXICO\n 	DEMING PUBLIC SCHOO
 LS\n 	DOH FORT BAYARD MEDICAL CENTER\n 	GILA REGIONAL MEDICAL CENTER\n 	GR
 ANT COUNTY ADMINISTRATION\n 	HIDALGO MEDICAL SERVICES\n 	LUNA COUNTY ADMIN
 ISTRATION\n 	LUNA COUNTY DETENTION CENTER\n 	LUNA COUNTY DISPATCH CENTER\n
  	LUNA COUNTY SHERIFF'S OFFICE\n 	NEW MEXICO NATIONAL GUARD\n 	SILVER CITY
  FIRE DEPARTMENT\n 	T OR C MUNICIPAL SCHOOLS\n 	GENESIS HEALTH\n\nFor more
  information:\nSelahBencomo\nCareer Services Coordinator\n(575) 538-6628\n
 Selah.Bencomo@wnmu.edu
ATTACH;FMTTYPE=image/jpeg:https://css.wnmu.edu/wp-content/uploads/sites/13
 /2026/04/WNMU-2026-Spring-Career-Fair-Attending-3-scaled.jpg
LOCATION:Student Memorial Center - 3rd Floor Lobby\, \, United States
X-APPLE-STRUCTURED-LOCATION;VALUE=URI;X-ADDRESS=\, United States;X-APPLE-RA
 DIUS=100;X-TITLE=Student Memorial Center - 3rd Floor Lobby:geo:0,0
END:VEVENT
BEGIN:VTIMEZONE
TZID:America/Denver
X-LIC-LOCATION:America/Denver
BEGIN:DAYLIGHT
DTSTART:20260308T030000
TZOFFSETFROM:-0700
TZOFFSETTO:-0600
TZNAME:MDT
END:DAYLIGHT
END:VTIMEZONE
END:VCALENDAR